Workbook

Sheet COVER
C3: TheWealthMeta EPF Account Balance Projections
C4: Updated February 2026 by Capitalist Stoic

Sheet Table of Contents
A1: TheWealthMeta EPF Savings Target Projections
A2: Table of contents with clickable links to navigate around the model
B4: COVER
B5: Table of Contents | D5: Menu with clickable links to easily navigate between worksheets
B7: OUTPUTS
B8: Summary | D8: Summary of EPF Projections by age cohorts
B10: CALCULATIONS
B11: EPF forward projections | D11: Calculation of average EPF account balances by age cohorts (only Account 1)
B12: Salary projections | D12: Median monthly salary projections based on DOSM data
B13: RIA projected targets | D13: Estimated future RIA savings targets based on inflation rate increases
B15: DATA PREP
B16: EPF Cohorts | D16: Integration of EPF and DOSM data into common cohort categories
B18: RAW DATA
B19: RIA framework | D19: Charts of key personal finance information
B20: EPF Rates | D20: RIA Savings Targets (Source: https://www.kwsp.gov.my/en/w/epf-releases-belanjawanku-2024/2025-and-retirement-income-adequacy-framework)
B21: EPF Demographics | D21: EPF contribution rates (Source: https://www.kwsp.gov.my/documents/d/guest/6-kwsp24_e-performance)
B22: DOSM Wages Report | D22: Median monthly wages (Source: https://www.dosm.gov.my/uploads/release-content/file_20260127120125.pdf)
B25: Left to do
B26: Final checks / errors
B27: Clean out metadata, lock file contents

Sheet >> OUTPUTS
C3: OUTPUTS
C4: Click here to return to Table of Contents

Sheet Summary
A1: TheWealthMeta EPF Savings Target Projections
A2: Summary of EPF Projections by age cohorts
B4: CONTROL PANEL
B5: Salary increase | F5: =F6+1% -> 0.04 | H5: Assume 1% increase above inflation
B6: Inflation | F6: 0.03 | H6: Inflation is relatively low at ~2% (https://www.dosm.gov.my/portal-main/release-content/consumer-price-index-march-2024), but let's be conservative
B7: EPF returns | F7: =AVERAGE('EPF Rates'!C21:AK21) -> 0.061754286 | H7: Current historical average
B8: EPF contribution < RM5k p.m. salary | F8: =F9+1% -> 0.24 | H8: From EPF Rates Sheet
B9: EPF contribution > RM5k p.m. salary | F9: ='EPF Rates'!AK18 -> 0.23 | H9: From EPF Rates Sheet
B10: EPF Account 1 | F10: ='EPF Rates'!D5 -> 0.75 | H10: From EPF Rates Sheet
B12: COHORT STARTING POINT
B14: Cohort Name | F14: 22 | G14: 27 | H14: 32 | I14: 37 | J14: 42 | K14: 47 | L14: 52
B15: Age range (based on EPF) | F15: ='EPF Demographics'!B6 -> 16-25 | G15: ='EPF Demographics'!B7 -> 26-30 | H15: ='EPF Demographics'!B8 -> 31-35 | I15: ='EPF Demographics'!B9 -> 36-40 | J15: ='EPF Demographics'!B10 -> 41-45 | K15: ='EPF Demographics'!B11 -> 46-50 | L15: ='EPF Demographics'!B12 -> 51-55
B16: Age range (based on DOSM) | F16: ='DOSM Wages Report'!B8 -> 20-24 | G16: ='DOSM Wages Report'!B9 -> 25-29 | H16: ='DOSM Wages Report'!B10 -> 30-34 | I16: ='DOSM Wages Report'!B11 -> 35-39 | J16: ='DOSM Wages Report'!B12 -> 40-44 | K16: ='DOSM Wages Report'!B13 -> 45-49 | L16: ='DOSM Wages Report'!B14 -> 50-54
B17: EPF Members | F17: =_xlfn.XLOOKUP(F15,'EPF Demographics'!$B$5:$B$17,'EPF Demographics'!$E$5:$E$17,,0,) -> 1726917 | G17: =_xlfn.XLOOKUP(G15,'EPF Demographics'!$B$5:$B$17,'EPF Demographics'!$E$5:$E$17,,0,) -> 1620115 | H17: =_xlfn.XLOOKUP(H15,'EPF Demographics'!$B$5:$B$17,'EPF Demographics'!$E$5:$E$17,,0,) -> 1310555 | I17: =_xlfn.XLOOKUP(I15,'EPF Demographics'!$B$5:$B$17,'EPF Demographics'!$E$5:$E$17,,0,) -> 1103616 | J17: =_xlfn.XLOOKUP(J15,'EPF Demographics'!$B$5:$B$17,'EPF Demographics'!$E$5:$E$17,,0,) -> 885250 | K17: =_xlfn.XLOOKUP(K15,'EPF Demographics'!$B$5:$B$17,'EPF Demographics'!$E$5:$E$17,,0,) -> 745783 | L17: =_xlfn.XLOOKUP(L15,'EPF Demographics'!$B$5:$B$17,'EPF Demographics'!$E$5:$E$17,,0,) -> 606168
B18: EPF Savings (Total RM'm) | F18: =_xlfn.XLOOKUP(F15,'EPF Demographics'!$B$5:$B$17,'EPF Demographics'!$H$5:$H$17,,0,)/1000000 -> 16447.278 | G18: =_xlfn.XLOOKUP(G15,'EPF Demographics'!$B$5:$B$17,'EPF Demographics'!$H$5:$H$17,,0,)/1000000 -> 45611.115 | H18: =_xlfn.XLOOKUP(H15,'EPF Demographics'!$B$5:$B$17,'EPF Demographics'!$H$5:$H$17,,0,)/1000000 -> 80224.051 | I18: =_xlfn.XLOOKUP(I15,'EPF Demographics'!$B$5:$B$17,'EPF Demographics'!$H$5:$H$17,,0,)/1000000 -> 124692.93 | J18: =_xlfn.XLOOKUP(J15,'EPF Demographics'!$B$5:$B$17,'EPF Demographics'!$H$5:$H$17,,0,)/1000000 -> 154194.13 | K18: =_xlfn.XLOOKUP(K15,'EPF Demographics'!$B$5:$B$17,'EPF Demographics'!$H$5:$H$17,,0,)/1000000 -> 179367.76 | L18: =_xlfn.XLOOKUP(L15,'EPF Demographics'!$B$5:$B$17,'EPF Demographics'!$H$5:$H$17,,0,)/1000000 -> 168119.36
B19: EPF Savings per Member (RM) | F19: =F18/F17*1000000 -> 9524.07 | G19: =G18/G17*1000000 -> 28153.011 | H19: =H18/H17*1000000 -> 61213.799 | I19: =I18/I17*1000000 -> 112985.79 | J19: =J18/J17*1000000 -> 174181.45 | K19: =K18/K17*1000000 -> 240509.32 | L19: =L18/L17*1000000 -> 277347.8
B20: Years to age 54 | F20: =54-F14 -> 32 | G20: =54-G14 -> 27 | H20: =54-H14 -> 22 | I20: =54-I14 -> 17 | J20: =54-J14 -> 12 | K20: =54-K14 -> 7 | L20: =54-L14 -> 2
B21: Years to age 60 | F21: =60-F14 -> 38 | G21: =60-G14 -> 33 | H21: =60-H14 -> 28 | I21: =60-I14 -> 23 | J21: =60-J14 -> 18 | K21: =60-K14 -> 13 | L21: =60-L14 -> 8
B23: COHORT FINAL STATES AT AGE 54 & 60
B25: EPF Balances when cohort reaches age 55
B26: Projected Balance at 55 | F26: =_xlfn.XLOOKUP(54,'EPF forward projections'!$D92:$AP92,'EPF forward projections'!$D100:$AP100,,0,) -> 1274195.8 | G26: =_xlfn.XLOOKUP(54,'EPF forward projections'!$D79:$AP79,'EPF forward projections'!$D87:$AP87,,0,) -> 1006080.1 | H26: =_xlfn.XLOOKUP(54,'EPF forward projections'!$D66:$AP66,'EPF forward projections'!$D74:$AP74,,0,) -> 817598.98 | I26: =_xlfn.XLOOKUP(54,'EPF forward projections'!$D53:$AP53,'EPF forward projections'!$D61:$AP61,,0,) -> 693945.3 | J26: =_xlfn.XLOOKUP(54,'EPF forward projections'!$D40:$AP40,'EPF forward projections'!$D48:$AP48,,0,) -> 585665.09 | K26: =_xlfn.XLOOKUP(54,'EPF forward projections'!$D27:$AP27,'EPF forward projections'!$D35:$AP35,,0,) -> 488633.04 | L26: =_xlfn.XLOOKUP(54,'EPF forward projections'!$D14:$AP14,'EPF forward projections'!$D22:$AP22,,0,) -> 360667.61
B27: RIA Basic Savings target (inflation adjusted) | F27: =_xlfn.XLOOKUP(54,'EPF forward projections'!$D92:$AP92,'EPF forward projections'!$D101:$AP101,,0,) -> 615297.05 | G27: =_xlfn.XLOOKUP(54,'EPF forward projections'!$D79:$AP79,'EPF forward projections'!$D88:$AP88,,0,) -> 530760.64 | H27: =_xlfn.XLOOKUP(54,'EPF forward projections'!$D66:$AP66,'EPF forward projections'!$D75:$AP75,,0,) -> 457838.79 | I27: =_xlfn.XLOOKUP(54,'EPF forward projections'!$D53:$AP53,'EPF forward projections'!$D62:$AP62,,0,) -> 394935.77 | J27: =_xlfn.XLOOKUP(54,'EPF forward projections'!$D40:$AP40,'EPF forward projections'!$D49:$AP49,,0,) -> 340675.06 | K27: =_xlfn.XLOOKUP(54,'EPF forward projections'!$D27:$AP27,'EPF forward projections'!$D36:$AP36,,0,) -> 293869.3 | L27: =_xlfn.XLOOKUP(54,'EPF forward projections'!$D14:$AP14,'EPF forward projections'!$D23:$AP23,,0,) -> -
B28: Above / Below savings rate | F28: =IFERROR(F26-F27,"-") -> 658898.73 | G28: =IFERROR(G26-G27,"-") -> 475319.48 | H28: =IFERROR(H26-H27,"-") -> 359760.18 | I28: =IFERROR(I26-I27,"-") -> 299009.54 | J28: =IFERROR(J26-J27,"-") -> 244990.03 | K28: =IFERROR(K26-K27,"-") -> 194763.74 | L28: =IFERROR(L26-L27,"-") -> -
B29: RIA Adequate Savings target (inflation adjusted) | F29: =_xlfn.XLOOKUP(54,'EPF forward projections'!$D92:$AP92,'EPF forward projections'!$D102:$AP102,,0,) -> 990694.9 | G29: =_xlfn.XLOOKUP(54,'EPF forward projections'!$D79:$AP79,'EPF forward projections'!$D89:$AP89,,0,) -> 854582.12 | H29: =_xlfn.XLOOKUP(54,'EPF forward projections'!$D66:$AP66,'EPF forward projections'!$D76:$AP76,,0,) -> 737170.04 | I29: =_xlfn.XLOOKUP(54,'EPF forward projections'!$D53:$AP53,'EPF forward projections'!$D63:$AP63,,0,) -> 635889.36 | J29: =_xlfn.XLOOKUP(54,'EPF forward projections'!$D40:$AP40,'EPF forward projections'!$D50:$AP50,,0,) -> 548523.74 | K29: =_xlfn.XLOOKUP(54,'EPF forward projections'!$D27:$AP27,'EPF forward projections'!$D37:$AP37,,0,) -> 473161.4 | L29: =_xlfn.XLOOKUP(54,'EPF forward projections'!$D14:$AP14,'EPF forward projections'!$D24:$AP24,,0,) -> -
B30: Above / Below savings rate | F30: =IFERROR(F26-F29,"-") -> 283500.89 | G30: =IFERROR(G26-G29,"-") -> 151498.01 | H30: =IFERROR(H26-H29,"-") -> 80428.934 | I30: =IFERROR(I26-I29,"-") -> 58055.948 | J30: =IFERROR(J26-J29,"-") -> 37141.345 | K30: =IFERROR(K26-K29,"-") -> 15471.642 | L30: =IFERROR(L26-L29,"-") -> -
B32: EPF Balances when cohort reaches age 60
B33: Projected Balance at 60 | F33: =_xlfn.XLOOKUP(60,'EPF forward projections'!$D92:$AP92,'EPF forward projections'!$D100:$AP100,,0,) -> 2044334.5 | G33: =_xlfn.XLOOKUP(60,'EPF forward projections'!$D79:$AP79,'EPF forward projections'!$D87:$AP87,,0,) -> 1621245.4 | H33: =_xlfn.XLOOKUP(60,'EPF forward projections'!$D66:$AP66,'EPF forward projections'!$D74:$AP74,,0,) -> 1319185.2 | I33: =_xlfn.XLOOKUP(60,'EPF forward projections'!$D53:$AP53,'EPF forward projections'!$D61:$AP61,,0,) -> 1115704.6 | J33: =_xlfn.XLOOKUP(60,'EPF forward projections'!$D40:$AP40,'EPF forward projections'!$D48:$AP48,,0,) -> 938937.05 | K33: =_xlfn.XLOOKUP(60,'EPF forward projections'!$D27:$AP27,'EPF forward projections'!$D35:$AP35,,0,) -> 782137.56 | L33: =_xlfn.XLOOKUP(60,'EPF forward projections'!$D14:$AP14,'EPF forward projections'!$D22:$AP22,,0,) -> 587121.61
B34: RIA Basic Savings target (inflation adjusted) | F34: =_xlfn.XLOOKUP(60,'EPF forward projections'!$D92:$AP92,'EPF forward projections'!$D101:$AP101,,0,) -> 1034410.7 | G34: =_xlfn.XLOOKUP(60,'EPF forward projections'!$D79:$AP79,'EPF forward projections'!$D88:$AP88,,0,) -> 892291.79 | H34: =_xlfn.XLOOKUP(60,'EPF forward projections'!$D66:$AP66,'EPF forward projections'!$D75:$AP75,,0,) -> 769698.74 | I34: =_xlfn.XLOOKUP(60,'EPF forward projections'!$D53:$AP53,'EPF forward projections'!$D62:$AP62,,0,) -> 663948.89 | J34: =_xlfn.XLOOKUP(60,'EPF forward projections'!$D40:$AP40,'EPF forward projections'!$D49:$AP49,,0,) -> 572728.15 | K34: =_xlfn.XLOOKUP(60,'EPF forward projections'!$D27:$AP27,'EPF forward projections'!$D36:$AP36,,0,) -> 494040.33 | L34: =_xlfn.XLOOKUP(60,'EPF forward projections'!$D14:$AP14,'EPF forward projections'!$D23:$AP23,,0,) -> 426163.53
B35: Above / Below savings rate | F35: =IFERROR(F33-F34,"-") -> 1009923.8 | G35: =IFERROR(G33-G34,"-") -> 728953.63 | H35: =IFERROR(H33-H34,"-") -> 549486.45 | I35: =IFERROR(I33-I34,"-") -> 451755.71 | J35: =IFERROR(J33-J34,"-") -> 366208.91 | K35: =IFERROR(K33-K34,"-") -> 288097.23 | L35: =IFERROR(L33-L34,"-") -> 160958.08
B36: RIA Adequate Savings target (inflation adjusted) | F36: =_xlfn.XLOOKUP(60,'EPF forward projections'!$D92:$AP92,'EPF forward projections'!$D102:$AP102,,0,) -> 1724017.9 | G36: =_xlfn.XLOOKUP(60,'EPF forward projections'!$D79:$AP79,'EPF forward projections'!$D89:$AP89,,0,) -> 1487153 | H36: =_xlfn.XLOOKUP(60,'EPF forward projections'!$D66:$AP66,'EPF forward projections'!$D76:$AP76,,0,) -> 1282831.2 | I36: =_xlfn.XLOOKUP(60,'EPF forward projections'!$D53:$AP53,'EPF forward projections'!$D63:$AP63,,0,) -> 1106581.5 | J36: =_xlfn.XLOOKUP(60,'EPF forward projections'!$D40:$AP40,'EPF forward projections'!$D50:$AP50,,0,) -> 954546.91 | K36: =_xlfn.XLOOKUP(60,'EPF forward projections'!$D27:$AP27,'EPF forward projections'!$D37:$AP37,,0,) -> 823400.55 | L36: =_xlfn.XLOOKUP(60,'EPF forward projections'!$D14:$AP14,'EPF forward projections'!$D24:$AP24,,0,) -> 710272.55
B37: Above / Below savings rate | F37: =IFERROR(F33-F36,"-") -> 320316.63 | G37: =IFERROR(G33-G36,"-") -> 134092.43 | H37: =IFERROR(H33-H36,"-") -> 36353.954 | I37: =IFERROR(I33-I36,"-") -> 9123.1168 | J37: =IFERROR(J33-J36,"-") -> -15609.859 | K37: =IFERROR(K33-K36,"-") -> -41262.991 | L37: =IFERROR(L33-L36,"-") -> -123150.94
B39: SENSITIVTY ANALYSIS - DIFFERENCE BETWEEN EPF BALANCE AND BASIC SAVINGS AT 60 | N39: SENSITIVTY ANALYSIS - DIFFERENCE BETWEEN EPF BALANCE AND ADEQUATE SAVINGS AT 60
B41: COHORT AGE 52 | D41: EPF returns | N41: COHORT AGE 52 | P41: EPF returns
C42: =L35 -> 160958.08 | D42: =E42-0.005 -> 0.04 | E42: =F42-0.005 -> 0.045 | F42: =G42-0.005 -> 0.05 | G42: 0.055 | H42: =G42+0.005 -> 0.06 | I42: =H42+0.005 -> 0.065 | J42: =I42+0.005 -> 0.07 | K42: =J42+0.005 -> 0.075 | L42: =K42+0.005 -> 0.08 | O42: =L37 -> -123150.94 | P42: =Q42-0.005 -> 0.04 | Q42: =R42-0.005 -> 0.045 | R42: =S42-0.005 -> 0.05 | S42: 0.055 | T42: =S42+0.005 -> 0.06 | U42: =T42+0.005 -> 0.065 | V42: =U42+0.005 -> 0.07 | W42: =V42+0.005 -> 0.075 | X42: =W42+0.005 -> 0.08
C43: =C44-1% -> 0.21 | D43: 61385.983 | E43: 80878.47 | F43: 101102.03 | G43: 122080.99 | H43: 143840.38 | I43: 166405.95 | J43: 189804.17 | K43: 214062.25 | L43: 239208.19 | O43: =O44-1% -> 0.21 | P43: -222723.04 | Q43: -203230.55 | R43: -183006.99 | S43: -162028.03 | T43: -140268.64 | U43: -117703.07 | V43: -94304.849 | W43: -70046.766 | X43: -44900.832
C44: =C45-1% -> 0.22 | D44: 65604.033 | E44: 85191.051 | F44: 105511.49 | G44: 126589.73 | H44: 148450.87 | I44: 171120.7 | J44: 194625.77 | K44: 218993.34 | L44: 244251.47 | O44: =O45-1% -> 0.22 | P44: -218504.99 | Q44: -198917.97 | R44: -178597.53 | S44: -157519.29 | T44: -135658.15 | U44: -112988.32 | V44: -89483.255 | W44: -65115.682 | X44: -39857.551
C45: 0.23 | D45: 69822.084 | E45: 89503.632 | F45: 109920.94 | G45: 131098.47 | H45: 153061.35 | I45: 175835.45 | J45: 199447.36 | K45: 223924.42 | L45: 249294.75 | O45: 0.23 | P45: -214286.94 | Q45: -194605.39 | R45: -174188.08 | S45: -153010.55 | T45: -131047.67 | U45: -108273.57 | V45: -84661.66 | W45: -60184.597 | X45: -34814.27
B46: Contribution | C46: =C45+1% -> 0.24 | D46: 74040.134 | E46: 93816.213 | F46: 114330.4 | G46: 135607.21 | H46: 157671.83 | I46: 180550.2 | J46: 204268.95 | K46: 228855.51 | L46: 254338.03 | N46: Contribution | O46: =O45+1% -> 0.24 | P46: -210068.89 | Q46: -190292.81 | R46: -169778.62 | S46: -148501.81 | T46: -126437.19 | U46: -103558.82 | V46: -79840.066 | W46: -55253.513 | X46: -29770.99
B47: rate | C47: =C46+1% -> 0.25 | D47: 78258.185 | E47: 98128.794 | F47: 118739.86 | G47: 140115.95 | H47: 162282.32 | I47: 185264.95 | J47: 209090.55 | K47: 233786.59 | L47: 259381.31 | N47: rate | O47: =O46+1% -> 0.25 | P47: -205850.84 | Q47: -185980.23 | R47: -165369.16 | S47: -143993.07 | T47: -121826.7 | U47: -98844.073 | V47: -75018.471 | W47: -50322.428 | X47: -24727.709
B48: >RM5k p.m. | C48: =C47+1% -> 0.26 | D48: 82476.235 | E48: 102441.37 | F48: 123149.32 | G48: 144624.69 | H48: 166892.8 | I48: 189979.7 | J48: 213912.14 | K48: 238717.68 | L48: 264424.59 | N48: >RM5k p.m. | O48: =O47+1% -> 0.26 | P48: -201632.78 | Q48: -181667.65 | R48: -160959.7 | S48: -139484.33 | T48: -117216.22 | U48: -94129.325 | V48: -70196.876 | W48: -45391.344 | X48: -19684.428
...

Sheet >> CALCULATIONS
C3: CALCULATIONS
C4: Click here to return to Table of Contents

Sheet EPF forward projections
A1: TheWealthMeta EPF Savings Target Projections
A2: Calculation of average EPF account balances by age cohorts (Only account 1 is considered)
B4: FROM CONTROL PANEL
B5: EPF returns | C5: =Summary!F7 -> 0.061754286
B6: Contribution < RM5k p.m. salary | C6: =Summary!F8 -> 0.24
B7: Contribution > RM5k p.m. salary | C7: =Summary!F9 -> 0.23
B8: EPF Account 1 portion | C8: =Summary!F10 -> 0.75
B10: Calendar Year | D10: 2025 | E10: =D10+1 -> 2026 | F10: =E10+1 -> 2027 | G10: =F10+1 -> 2028 | H10: =G10+1 -> 2029 | I10: =H10+1 -> 2030 | J10: =I10+1 -> 2031 | K10: =J10+1 -> 2032 | L10: =K10+1 -> 2033 | ... AP10: =AO10+1 -> 2063
B11: Projection Year | D11: 1 | E11: =D11+1 -> 2 | F11: =E11+1 -> 3 | G11: =F11+1 -> 4 | H11: =G11+1 -> 5 | I11: =H11+1 -> 6 | J11: =I11+1 -> 7 | K11: =J11+1 -> 8 | L11: =K11+1 -> 9 | ... AP11: =AO11+1 -> 39
B13: COHORT | C13: 52
B14: Age | C14: # | D14: =C13 -> 52 | E14: =D14+1 -> 53 | F14: =E14+1 -> 54 | G14: =F14+1 -> 55 | H14: =G14+1 -> 56 | I14: =H14+1 -> 57 | J14: =I14+1 -> 58 | K14: =J14+1 -> 59 | L14: =K14+1 -> 60
B15: EPF Balance | C15: RM | D15: =_xlfn.XLOOKUP(D14,'EPF Cohorts'!$B$5:$B$11,'EPF Cohorts'!$G$5:$G$11) -> 277347.8 | E15: =D22 -> 303253.81 | F15: =E22 -> 330988.03 | G15: =F22 -> 360667.61 | H15: =G22 -> 392416.86 | I15: =H22 -> 426367.77 | J15: =I22 -> 462660.41 | K15: =J22 -> 501443.46 | L15: =K22 -> 542874.71
B16: Median Salary (annual) | C16: RM | D16: {=_xlfn.XLOOKUP(D14,'Salary projections'!$B$10:$B$48,_xlfn.XLOOKUP(D$10,'Salary projections'!$D$9:$AS$9,'Salary projections'!$D$10:$AS$48,,0),,0)*12} -> 47309.184 | E16: {=_xlfn.XLOOKUP(E14,'Salary projections'!$B$10:$B$48,_xlfn.XLOOKUP(E$10,'Salary projections'!$D$9:$AS$9,'Salary projections'!$D$10:$AS$48,,0),,0)*12} -> 48540.131 | F16: {=_xlfn.XLOOKUP(F14,'Salary projections'!$B$10:$B$48,_xlfn.XLOOKUP(F$10,'Salary projections'!$D$9:$AS$9,'Salary projections'!$D$10:$AS$48,,0),,0)*12} -> 49793.86 | G16: {=_xlfn.XLOOKUP(G14,'Salary projections'!$B$10:$B$48,_xlfn.XLOOKUP(G$10,'Salary projections'!$D$9:$AS$9,'Salary projections'!$D$10:$AS$48,,0),,0)*12} -> 51070.222 | H16: {=_xlfn.XLOOKUP(H14,'Salary projections'!$B$10:$B$48,_xlfn.XLOOKUP(H$10,'Salary projections'!$D$9:$AS$9,'Salary projections'!$D$10:$AS$48,,0),,0)*12} -> 52369.024 | I16: {=_xlfn.XLOOKUP(I14,'Salary projections'!$B$10:$B$48,_xlfn.XLOOKUP(I$10,'Salary projections'!$D$9:$AS$9,'Salary projections'!$D$10:$AS$48,,0),,0)*12} -> 53690.017 | J16: {=_xlfn.XLOOKUP(J14,'Salary projections'!$B$10:$B$48,_xlfn.XLOOKUP(J$10,'Salary projections'!$D$9:$AS$9,'Salary projections'!$D$10:$AS$48,,0),,0)*12} -> 55032.899 | K16: {=_xlfn.XLOOKUP(K14,'Salary projections'!$B$10:$B$48,_xlfn.XLOOKUP(K$10,'Salary projections'!$D$9:$AS$9,'Salary projections'!$D$10:$AS$48,,0),,0)*12} -> 56397.307 | L16: {=_xlfn.XLOOKUP(L14,'Salary projections'!$B$10:$B$48,_xlfn.XLOOKUP(L$10,'Salary projections'!$D$9:$AS$9,'Salary projections'!$D$10:$AS$48,,0),,0)*12} -> 57782.816
B17: EPF contribution | C17: % | D17: =IF((D16/12<5000),$C$6,$C$7) -> 0.24 | E17: =IF((E16/12<5000),$C$6,$C$7) -> 0.24 | F17: =IF((F16/12<5000),$C$6,$C$7) -> 0.24 | G17: =IF((G16/12<5000),$C$6,$C$7) -> 0.24 | H17: =IF((H16/12<5000),$C$6,$C$7) -> 0.24 | I17: =IF((I16/12<5000),$C$6,$C$7) -> 0.24 | J17: =IF((J16/12<5000),$C$6,$C$7) -> 0.24 | K17: =IF((K16/12<5000),$C$6,$C$7) -> 0.24 | L17: =IF((L16/12<5000),$C$6,$C$7) -> 0.24
B18: EPF contribution | C18: RM | D18: =D16*D17 -> 11354.204 | E18: =E16*E17 -> 11649.632 | F18: =F16*F17 -> 11950.526 | G18: =G16*G17 -> 12256.853 | H18: =H16*H17 -> 12568.566 | I18: =I16*I17 -> 12885.604 | J18: =J16*J17 -> 13207.896 | K18: =K16*K17 -> 13535.354 | L18: =L16*L17 -> 13867.876
B19: EPF Account 1 | C19: RM | D19: =D18*$C$8 -> 8515.6531 | E19: =E18*$C$8 -> 8737.2236 | F19: =F18*$C$8 -> 8962.8948 | G19: =G18*$C$8 -> 9192.64 | H19: =H18*$C$8 -> 9426.4242 | I19: =I18*$C$8 -> 9664.203 | J19: =J18*$C$8 -> 9905.9218 | K19: =K18*$C$8 -> 10151.515 | L19: =L18*$C$8 -> 10400.907
B20: EPF returns | C20: % | D20: =$C$5 -> 0.061754286 | E20: =$C$5 -> 0.061754286 | F20: =$C$5 -> 0.061754286 | G20: =$C$5 -> 0.061754286 | H20: =$C$5 -> 0.061754286 | I20: =$C$5 -> 0.061754286 | J20: =$C$5 -> 0.061754286 | K20: =$C$5 -> 0.061754286 | L20: =$C$5 -> 0.061754286
B21: EPF returns | C21: RM | D21: =(D15*D20)+((D19*D20)/2) -> 17390.354 | E21: =(E15*E20)+((E19*E20)/2) -> 18997.003 | F21: =(F15*F20)+((F19*F20)/2) -> 20716.678 | G21: =(G15*G20)+((G19*G20)/2) -> 22556.613 | H21: =(H15*H20)+((H19*H20)/2) -> 24524.484 | I21: =(I15*I20)+((I19*I20)/2) -> 26628.44 | J21: =(J15*J20)+((J19*J20)/2) -> 28877.13 | K21: =(K15*K20)+((K19*K20)/2) -> 31279.733 | L21: =(L15*L20)+((L19*L20)/2) -> 33845.99
B22: EPF balance | C22: RM | D22: =D21+D19+D15 -> 303253.81 | E22: =E21+E19+E15 -> 330988.03 | F22: =F21+F19+F15 -> 360667.61 | G22: =G21+G19+G15 -> 392416.86 | H22: =H21+H19+H15 -> 426367.77 | I22: =I21+I19+I15 -> 462660.41 | J22: =J21+J19+J15 -> 501443.46 | K22: =K21+K19+K15 -> 542874.71 | L22: =L21+L19+L15 -> 587121.61
B23: RIA Basic Savings Threshold | C23: RM | D23: {=_xlfn.IFNA(_xlfn.XLOOKUP(D14,'RIA projected targets'!$B$12:$B$54,_xlfn.XLOOKUP(D$10,'RIA projected targets'!$C$8:$AP$8,'RIA projected targets'!$C$12:$AP$54),,0,),"-")} -> - | E23: {=_xlfn.IFNA(_xlfn.XLOOKUP(E14,'RIA projected targets'!$B$12:$B$54,_xlfn.XLOOKUP(E$10,'RIA projected targets'!$C$8:$AP$8,'RIA projected targets'!$C$12:$AP$54),,0,),"-")} -> - | F23: {=_xlfn.IFNA(_xlfn.XLOOKUP(F14,'RIA projected targets'!$B$12:$B$54,_xlfn.XLOOKUP(F$10,'RIA projected targets'!$C$8:$AP$8,'RIA projected targets'!$C$12:$AP$54),,0,),"-")} -> - | G23: {=_xlfn.IFNA(_xlfn.XLOOKUP(G14,'RIA projected targets'!$B$12:$B$54,_xlfn.XLOOKUP(G$10,'RIA projected targets'!$C$8:$AP$8,'RIA projected targets'!$C$12:$AP$54),,0,),"-")} -> - | H23: {=_xlfn.IFNA(_xlfn.XLOOKUP(H14,'RIA projected targets'!$B$12:$B$54,_xlfn.XLOOKUP(H$10,'RIA projected targets'!$C$8:$AP$8,'RIA projected targets'!$C$12:$AP$54),,0,),"-")} -> - | I23: {=_xlfn.IFNA(_xlfn.XLOOKUP(I14,'RIA projected targets'!$B$12:$B$54,_xlfn.XLOOKUP(I$10,'RIA projected targets'!$C$8:$AP$8,'RIA projected targets'!$C$12:$AP$54),,0,),"-")} -> 330000 | J23: {=_xlfn.IFNA(_xlfn.XLOOKUP(J14,'RIA projected targets'!$B$12:$B$54,_xlfn.XLOOKUP(J$10,'RIA projected targets'!$C$8:$AP$8,'RIA projected targets'!$C$12:$AP$54),,0,),"-")} -> 359470 | K23: {=_xlfn.IFNA(_xlfn.XLOOKUP(K14,'RIA projected targets'!$B$12:$B$54,_xlfn.XLOOKUP(K$10,'RIA projected targets'!$C$8:$AP$8,'RIA projected targets'!$C$12:$AP$54),,0,),"-")} -> 391472.1 | L23: {=_xlfn.IFNA(_xlfn.XLOOKUP(L14,'RIA projected targets'!$B$12:$B$54,_xlfn.XLOOKUP(L$10,'RIA projected targets'!$C$8:$AP$8,'RIA projected targets'!$C$12:$AP$54),,0,),"-")} -> 426163.53
B24: RIA Adequate Savings Threshold | C24: RM | D24: {=_xlfn.IFNA(_xlfn.XLOOKUP(D14,'RIA projected targets'!$B$58:$B$100,_xlfn.XLOOKUP(D$10,'RIA projected targets'!$C$8:$AP$8,'RIA projected targets'!$C$58:$AP$100),,0,),"-")} -> - | E24: {=_xlfn.IFNA(_xlfn.XLOOKUP(E14,'RIA projected targets'!$B$58:$B$100,_xlfn.XLOOKUP(E$10,'RIA projected targets'!$C$8:$AP$8,'RIA projected targets'!$C$58:$AP$100),,0,),"-")} -> - | F24: {=_xlfn.IFNA(_xlfn.XLOOKUP(F14,'RIA projected targets'!$B$58:$B$100,_xlfn.XLOOKUP(F$10,'RIA projected targets'!$C$8:$AP$8,'RIA projected targets'!$C$58:$AP$100),,0,),"-")} -> - | G24: {=_xlfn.IFNA(_xlfn.XLOOKUP(G14,'RIA projected targets'!$B$58:$B$100,_xlfn.XLOOKUP(G$10,'RIA projected targets'!$C$8:$AP$8,'RIA projected targets'!$C$58:$AP$100),,0,),"-")} -> - | H24: {=_xlfn.IFNA(_xlfn.XLOOKUP(H14,'RIA projected targets'!$B$58:$B$100,_xlfn.XLOOKUP(H$10,'RIA projected targets'!$C$8:$AP$8,'RIA projected targets'!$C$58:$AP$100),,0,),"-")} -> - | I24: {=_xlfn.IFNA(_xlfn.XLOOKUP(I14,'RIA projected targets'!$B$58:$B$100,_xlfn.XLOOKUP(I$10,'RIA projected targets'!$C$8:$AP$8,'RIA projected targets'!$C$58:$AP$100),,0,),"-")} -> 541000 | J24: {=_xlfn.IFNA(_xlfn.XLOOKUP(J14,'RIA projected targets'!$B$58:$B$100,_xlfn.XLOOKUP(J$10,'RIA projected targets'!$C$8:$AP$8,'RIA projected targets'!$C$58:$AP$100),,0,),"-")} -> 593280 | K24: {=_xlfn.IFNA(_xlfn.XLOOKUP(K14,'RIA projected targets'!$B$58:$B$100,_xlfn.XLOOKUP(K$10,'RIA projected targets'!$C$8:$AP$8,'RIA projected targets'!$C$58:$AP$100),,0,),"-")} -> 649270.8 | L24: {=_xlfn.IFNA(_xlfn.XLOOKUP(L14,'RIA projected targets'!$B$58:$B$100,_xlfn.XLOOKUP(L$10,'RIA projected targets'!$C$8:$AP$8,'RIA projected targets'!$C$58:$AP$100),,0,),"-")} -> 710272.55
B26: COHORT | C26: 47
B27: Age | C27: # | D27: =C26 -> 47 | E27: =D27+1 -> 48 | F27: =E27+1 -> 49 | G27: =F27+1 -> 50 | H27: =G27+1 -> 51 | I27: =H27+1 -> 52 | J27: =I27+1 -> 53 | K27: =J27+1 -> 54 | L27: =K27+1 -> 55 | ... Q27: =P27+1 -> 60
B28: EPF Balance | C28: RM | D28: =_xlfn.XLOOKUP(D27,'EPF Cohorts'!$B$5:$B$11,'EPF Cohorts'!$G$5:$G$11) -> 240509.32 | E28: =D35 -> 264513.69 | F28: =E35 -> 290288.87 | G28: =F35 -> 317952.64 | H28: =G35 -> 347630.26 | I28: =H35 -> 379454.97 | J28: =I35 -> 413568.44 | K28: =J35 -> 450066.46 | L28: =K35 -> 488633.04 | ... Q28: =P35 -> 724872.12
B29: Median Salary (annual) | C29: RM | D29: {=_xlfn.XLOOKUP(D27,'Salary projections'!$B$10:$B$48,_xlfn.XLOOKUP(D$10,'Salary projections'!$D$9:$AS$9,'Salary projections'!$D$10:$AS$48,,0),,0)*12} -> 49320.96 | E29: {=_xlfn.XLOOKUP(E27,'Salary projections'!$B$10:$B$48,_xlfn.XLOOKUP(E$10,'Salary projections'!$D$9:$AS$9,'Salary projections'!$D$10:$AS$48,,0),,0)*12} -> 50875.349 | F29: {=_xlfn.XLOOKUP(F27,'Salary projections'!$B$10:$B$48,_xlfn.XLOOKUP(F$10,'Salary projections'!$D$9:$AS$9,'Salary projections'!$D$10:$AS$48,,0),,0)*12} -> 52475.176 | G29: {=_xlfn.XLOOKUP(G27,'Salary projections'!$B$10:$B$48,_xlfn.XLOOKUP(G$10,'Salary projections'!$D$9:$AS$9,'Salary projections'!$D$10:$AS$48,,0),,0)*12} -> 54121.588 | H29: {=_xlfn.XLOOKUP(H27,'Salary projections'!$B$10:$B$48,_xlfn.XLOOKUP(H$10,'Salary projections'!$D$9:$AS$9,'Salary projections'!$D$10:$AS$48,,0),,0)*12} -> 55815.753 | I29: {=_xlfn.XLOOKUP(I27,'Salary projections'!$B$10:$B$48,_xlfn.XLOOKUP(I$10,'Salary projections'!$D$9:$AS$9,'Salary projections'!$D$10:$AS$48,,0),,0)*12} -> 57558.856 | J29: {=_xlfn.XLOOKUP(J27,'Salary projections'!$B$10:$B$48,_xlfn.XLOOKUP(J$10,'Salary projections'!$D$9:$AS$9,'Salary projections'!$D$10:$AS$48,,0),,0)*12} -> 59056.492 | K29: {=_xlfn.XLOOKUP(K27,'Salary projections'!$B$10:$B$48,_xlfn.XLOOKUP(K$10,'Salary projections'!$D$9:$AS$9,'Salary projections'!$D$10:$AS$48,,0),,0)*12} -> 60581.844 | ... Q29: {=_xlfn.XLOOKUP(Q27,'Salary projections'!$B$10:$B$48,_xlfn.XLOOKUP(Q$10,'Salary projections'!$D$9:$AS$9,'Salary projections'!$D$10:$AS$48,,0),,0)*12} -> 70301.631
B30: EPF contribution | C30: % | D30: =IF((D29/12<5000),$C$6,$C$7) -> 0.24 | E30: =IF((E29/12<5000),$C$6,$C$7) -> 0.24 | F30: =IF((F29/12<5000),$C$6,$C$7) -> 0.24 | G30: =IF((G29/12<5000),$C$6,$C$7) -> 0.24 | H30: =IF((H29/12<5000),$C$6,$C$7) -> 0.24 | I30: =IF((I29/12<5000),$C$6,$C$7) -> 0.24 | J30: =IF((J29/12<5000),$C$6,$C$7) -> 0.24 | K30: =IF((K29/12<5000),$C$6,$C$7) -> 0.23 | ... Q30: =IF((Q29/12<5000),$C$6,$C$7) -> 0.23
B31: EPF contribution | C31: RM | D31: =D29*D30 -> 11837.03 | E31: =E29*E30 -> 12210.084 | F31: =F29*F30 -> 12594.042 | G31: =G29*G30 -> 12989.181 | H31: =H29*H30 -> 13395.781 | I31: =I29*I30 -> 13814.125 | J31: =J29*J30 -> 14173.558 | K31: =K29*K30 -> 13933.824 | ... Q31: =Q29*Q30 -> 16169.375
B32: EPF Account 1 | C32: RM | D32: =D31*$C$8 -> 8877.7728 | E32: =E31*$C$8 -> 9157.5628 | F32: =F31*$C$8 -> 9445.5316 | G32: =G31*$C$8 -> 9741.8858 | H32: =H31*$C$8 -> 10046.835 | I32: =I31*$C$8 -> 10360.594 | J32: =J31*$C$8 -> 10630.168 | K32: =K31*$C$8 -> 10450.368 | ... Q32: =Q31*$C$8 -> 12127.031
B33: EPF returns | C33: % | D33: =$C$5 -> 0.061754286 | E33: =$C$5 -> 0.061754286 | F33: =$C$5 -> 0.061754286 | G33: =$C$5 -> 0.061754286 | H33: =$C$5 -> 0.061754286 | I33: =$C$5 -> 0.061754286 | J33: =$C$5 -> 0.061754286 | K33: =$C$5 -> 0.061754286 | ... Q33: =$C$5 -> 0.061754286
B34: EPF returns | C34: RM | D34: =(D28*D33)+((D32*D33)/2) -> 15126.602 | E34: =(E28*E33)+((E32*E33)/2) -> 16617.614 | F34: =(F28*F33)+((F32*F33)/2) -> 18218.233 | G34: =(G28*G33)+((G32*G33)/2) -> 19935.739 | H34: =(H28*H33)+((H32*H33)/2) -> 21777.876 | I34: =(I28*I33)+((I32*I33)/2) -> 23752.876 | J34: =(J28*J33)+((J32*J33)/2) -> 25867.853 | K34: =(K28*K33)+((K32*K33)/2) -> 28116.21 | ... Q34: =(Q28*Q33)+((Q32*Q33)/2) -> 45138.408
B35: EPF balance | C35: RM | D35: =D34+D32+D28 -> 264513.69 | E35: =E34+E32+E28 -> 290288.87 | F35: =F34+F32+F28 -> 317952.64 | G35: =G34+G32+G28 -> 347630.26 | H35: =H34+H32+H28 -> 379454.97 | I35: =I34+I32+I28 -> 413568.44 | J35: =J34+J32+J28 -> 450066.46 | K35: =K34+K32+K28 -> 488633.04 | ... Q35: =Q34+Q32+Q28 -> 782137.56
B36: RIA Basic Savings Threshold | D36: {=_xlfn.IFNA(_xlfn.XLOOKUP(D27,'RIA projected targets'!$B$12:$B$54,_xlfn.XLOOKUP(D$10,'RIA projected targets'!$C$8:$AP$8,'RIA projected targets'!$C$12:$AP$54),,0,),"-")} -> - | E36: {=_xlfn.IFNA(_xlfn.XLOOKUP(E27,'RIA projected targets'!$B$12:$B$54,_xlfn.XLOOKUP(E$10,'RIA projected targets'!$C$8:$AP$8,'RIA projected targets'!$C$12:$AP$54),,0,),"-")} -> - | F36: {=_xlfn.IFNA(_xlfn.XLOOKUP(F27,'RIA projected targets'!$B$12:$B$54,_xlfn.XLOOKUP(F$10,'RIA projected targets'!$C$8:$AP$8,'RIA projected targets'!$C$12:$AP$54),,0,),"-")} -> - | G36: {=_xlfn.IFNA(_xlfn.XLOOKUP(G27,'RIA projected targets'!$B$12:$B$54,_xlfn.XLOOKUP(G$10,'RIA projected targets'!$C$8:$AP$8,'RIA projected targets'!$C$12:$AP$54),,0,),"-")} -> - | H36: {=_xlfn.IFNA(_xlfn.XLOOKUP(H27,'RIA projected targets'!$B$12:$B$54,_xlfn.XLOOKUP(H$10,'RIA projected targets'!$C$8:$AP$8,'RIA projected targets'!$C$12:$AP$54),,0,),"-")} -> - | I36: {=_xlfn.IFNA(_xlfn.XLOOKUP(I27,'RIA projected targets'!$B$12:$B$54,_xlfn.XLOOKUP(I$10,'RIA projected targets'!$C$8:$AP$8,'RIA projected targets'!$C$12:$AP$54),,0,),"-")} -> 246000 | J36: {=_xlfn.IFNA(_xlfn.XLOOKUP(J27,'RIA projected targets'!$B$12:$B$54,_xlfn.XLOOKUP(J$10,'RIA projected targets'!$C$8:$AP$8,'RIA projected targets'!$C$12:$AP$54),,0,),"-")} -> 268830 | K36: {=_xlfn.IFNA(_xlfn.XLOOKUP(K27,'RIA projected targets'!$B$12:$B$54,_xlfn.XLOOKUP(K$10,'RIA projected targets'!$C$8:$AP$8,'RIA projected targets'!$C$12:$AP$54),,0,),"-")} -> 293869.3 | ... Q36: {=_xlfn.IFNA(_xlfn.XLOOKUP(Q27,'RIA projected targets'!$B$12:$B$54,_xlfn.XLOOKUP(Q$10,'RIA projected targets'!$C$8:$AP$8,'RIA projected targets'!$C$12:$AP$54),,0,),"-")} -> 494040.33
B37: RIA Adequate Savings Threshold | C37: RM | D37: {=_xlfn.IFNA(_xlfn.XLOOKUP(D27,'RIA projected targets'!$B$58:$B$100,_xlfn.XLOOKUP(D$10,'RIA projected targets'!$C$8:$AP$8,'RIA projected targets'!$C$58:$AP$100),,0,),"-")} -> - | E37: {=_xlfn.IFNA(_xlfn.XLOOKUP(E27,'RIA projected targets'!$B$58:$B$100,_xlfn.XLOOKUP(E$10,'RIA projected targets'!$C$8:$AP$8,'RIA projected targets'!$C$58:$AP$100),,0,),"-")} -> - | F37: {=_xlfn.IFNA(_xlfn.XLOOKUP(F27,'RIA projected targets'!$B$58:$B$100,_xlfn.XLOOKUP(F$10,'RIA projected targets'!$C$8:$AP$8,'RIA projected targets'!$C$58:$AP$100),,0,),"-")} -> - | G37: {=_xlfn.IFNA(_xlfn.XLOOKUP(G27,'RIA projected targets'!$B$58:$B$100,_xlfn.XLOOKUP(G$10,'RIA projected targets'!$C$8:$AP$8,'RIA projected targets'!$C$58:$AP$100),,0,),"-")} -> - | H37: {=_xlfn.IFNA(_xlfn.XLOOKUP(H27,'RIA projected targets'!$B$58:$B$100,_xlfn.XLOOKUP(H$10,'RIA projected targets'!$C$8:$AP$8,'RIA projected targets'!$C$58:$AP$100),,0,),"-")} -> - | I37: {=_xlfn.IFNA(_xlfn.XLOOKUP(I27,'RIA projected targets'!$B$58:$B$100,_xlfn.XLOOKUP(I$10,'RIA projected targets'!$C$8:$AP$8,'RIA projected targets'!$C$58:$AP$100),,0,),"-")} -> 390000 | J37: {=_xlfn.IFNA(_xlfn.XLOOKUP(J27,'RIA projected targets'!$B$58:$B$100,_xlfn.XLOOKUP(J$10,'RIA projected targets'!$C$8:$AP$8,'RIA projected targets'!$C$58:$AP$100),,0,),"-")} -> 429510 | K37: {=_xlfn.IFNA(_xlfn.XLOOKUP(K27,'RIA projected targets'!$B$58:$B$100,_xlfn.XLOOKUP(K$10,'RIA projected targets'!$C$8:$AP$8,'RIA projected targets'!$C$58:$AP$100),,0,),"-")} -> 473161.4 | ... Q37: {=_xlfn.IFNA(_xlfn.XLOOKUP(Q27,'RIA projected targets'!$B$58:$B$100,_xlfn.XLOOKUP(Q$10,'RIA projected targets'!$C$8:$AP$8,'RIA projected targets'!$C$58:$AP$100),,0,),"-")} -> 823400.55
B39: COHORT | C39: 42
B40: Age | C40: # | D40: =C39 -> 42 | E40: =D40+1 -> 43 | F40: =E40+1 -> 44 | G40: =F40+1 -> 45 | H40: =G40+1 -> 46 | I40: =H40+1 -> 47 | J40: =I40+1 -> 48 | K40: =J40+1 -> 49 | L40: =K40+1 -> 50 | ... V40: =U40+1 -> 60
B41: EPF Balance | C41: RM | D41: =_xlfn.XLOOKUP(D40,'EPF Cohorts'!$B$5:$B$11,'EPF Cohorts'!$G$5:$G$11) -> 174181.45 | E41: =D48 -> 193848.96 | F41: =E48 -> 215137.55 | G41: =F48 -> 238165.61 | H41: =G48 -> 263059.63 | I41: =H48 -> 289954.76 | J41: =I48 -> 318531.44 | K41: =J48 -> 349209.15 | L41: =K48 -> 382127.47 | ... V41: =U48 -> 870000.81
B42: Median Salary (annual) | C42: RM | D42: {=_xlfn.XLOOKUP(D40,'Salary projections'!$B$10:$B$48,_xlfn.XLOOKUP(D$10,'Salary projections'!$D$9:$AS$9,'Salary projections'!$D$10:$AS$48,,0),,0)*12} -> 48023.04 | E42: {=_xlfn.XLOOKUP(E40,'Salary projections'!$B$10:$B$48,_xlfn.XLOOKUP(E$10,'Salary projections'!$D$9:$AS$9,'Salary projections'!$D$10:$AS$48,,0),,0)*12} -> 50213.929 | F42: {=_xlfn.XLOOKUP(F40,'Salary projections'!$B$10:$B$48,_xlfn.XLOOKUP(F$10,'Salary projections'!$D$9:$AS$9,'Salary projections'!$D$10:$AS$48,,0),,0)*12} -> 52503.252 | G42: {=_xlfn.XLOOKUP(G40,'Salary projections'!$B$10:$B$48,_xlfn.XLOOKUP(G$10,'Salary projections'!$D$9:$AS$9,'Salary projections'!$D$10:$AS$48,,0),,0)*12} -> 54895.379 | H42: {=_xlfn.XLOOKUP(H40,'Salary projections'!$B$10:$B$48,_xlfn.XLOOKUP(H$10,'Salary projections'!$D$9:$AS$9,'Salary projections'!$D$10:$AS$48,,0),,0)*12} -> 57394.871 | I42: {=_xlfn.XLOOKUP(I40,'Salary projections'!$B$10:$B$48,_xlfn.XLOOKUP(I$10,'Salary projections'!$D$9:$AS$9,'Salary projections'!$D$10:$AS$48,,0),,0)*12} -> 60006.489 | J42: {=_xlfn.XLOOKUP(J40,'Salary projections'!$B$10:$B$48,_xlfn.XLOOKUP(J$10,'Salary projections'!$D$9:$AS$9,'Salary projections'!$D$10:$AS$48,,0),,0)*12} -> 61897.641 | K42: {=_xlfn.XLOOKUP(K40,'Salary projections'!$B$10:$B$48,_xlfn.XLOOKUP(K$10,'Salary projections'!$D$9:$AS$9,'Salary projections'!$D$10:$AS$48,,0),,0)*12} -> 63844.075 | ... V42: {=_xlfn.XLOOKUP(V40,'Salary projections'!$B$10:$B$48,_xlfn.XLOOKUP(V$10,'Salary projections'!$D$9:$AS$9,'Salary projections'!$D$10:$AS$48,,0),,0)*12} -> 85532.683
B43: EPF contribution | C43: % | D43: =IF((D42/12<5000),$C$6,$C$7) -> 0.24 | E43: =IF((E42/12<5000),$C$6,$C$7) -> 0.24 | F43: =IF((F42/12<5000),$C$6,$C$7) -> 0.24 | G43: =IF((G42/12<5000),$C$6,$C$7) -> 0.24 | H43: =IF((H42/12<5000),$C$6,$C$7) -> 0.24 | I43: =IF((I42/12<5000),$C$6,$C$7) -> 0.23 | J43: =IF((J42/12<5000),$C$6,$C$7) -> 0.23 | K43: =IF((K42/12<5000),$C$6,$C$7) -> 0.23 | ... V43: =IF((V42/12<5000),$C$6,$C$7) -> 0.23
B44: EPF contribution | C44: RM | D44: =D42*D43 -> 11525.53 | E44: =E42*E43 -> 12051.343 | F44: =F42*F43 -> 12600.781 | G44: =G42*G43 -> 13174.891 | H44: =H42*H43 -> 13774.769 | I44: =I42*I43 -> 13801.493 | J44: =J42*J43 -> 14236.457 | K44: =K42*K43 -> 14684.137 | ... V44: =V42*V43 -> 19672.517
B45: EPF Account 1 | C45: RM | D45: =D44*$C$8 -> 8644.1472 | E45: =E44*$C$8 -> 9038.5072 | F45: =F44*$C$8 -> 9450.5854 | G45: =G44*$C$8 -> 9881.1682 | H45: =H44*$C$8 -> 10331.077 | I45: =I44*$C$8 -> 10351.119 | J45: =J44*$C$8 -> 10677.343 | K45: =K44*$C$8 -> 11013.103 | ... V45: =V44*$C$8 -> 14754.388
...

Sheet Salary projections
A1: TheWealthMeta EPF Savings Target Projections
A2: Median monthly salary projections based on DOSM data
B4: FROM CONTROL PANEL
B6: Salary increase | C6: =Summary!F5 -> 0.04
B8: MEDIAN MONTHLY SALARY PROJECTIONS
B9: Cohort Name | C9: Age range (DOSM) | D9: 2023 | E9: =D9+1 -> 2024 | F9: =E9+1 -> 2025 | G9: =F9+1 -> 2026 | H9: =G9+1 -> 2027 | I9: =H9+1 -> 2028 | J9: =I9+1 -> 2029 | K9: =J9+1 -> 2030 | L9: =K9+1 -> 2031 | ... AS9: =AR9+1 -> 2064
B10: 22 | C10: ='DOSM Wages Report'!B8 -> 20-24 | D10: =_xlfn.XLOOKUP(C10,'DOSM Wages Report'!$B$7:$B$17,'DOSM Wages Report'!$C$7:$C$17,,0,) -> 1900 | E10: =D10*(1+$C$6) -> 1976 | F10: =E10*(1+$C$6) -> 2055.04 | G10: =F10*(1+$C$6) -> 2137.2416 | H10: =G10*(1+$C$6) -> 2222.7313 | I10: =H10*(1+$C$6) -> 2311.6405 | J10: =I10*(1+$C$6) -> 2404.1061 | K10: =J10*(1+$C$6) -> 2500.2704 | L10: =K10*(1+$C$6) -> 2600.2812 | ... AS10: =AR10*(1+$C$6) -> 9486.8168
B11: =B10+1 -> 23 | D11: =(D15-D10)/5+D10 -> 2032.8 | E11: =(E15-E10)/5+E10 -> 2114.112 | F11: =(F15-F10)/5+F10 -> 2198.6765 | G11: =(G15-G10)/5+G10 -> 2286.6235 | H11: =(H15-H10)/5+H10 -> 2378.0885 | I11: =(I15-I10)/5+I10 -> 2473.212 | J11: =(J15-J10)/5+J10 -> 2572.1405 | K11: =(K15-K10)/5+K10 -> 2675.0261 | ... AS11: =(AS15-AS10)/5+AS10 -> 10149.895
B12: =B11+1 -> 24 | D12: =(D15-D10)/5+D11 -> 2165.6 | E12: =(E15-E10)/5+E11 -> 2252.224 | F12: =(F15-F10)/5+F11 -> 2342.313 | G12: =(G15-G10)/5+G11 -> 2436.0055 | H12: =(H15-H10)/5+H11 -> 2533.4457 | I12: =(I15-I10)/5+I11 -> 2634.7835 | J12: =(J15-J10)/5+J11 -> 2740.1749 | K12: =(K15-K10)/5+K11 -> 2849.7819 | ... AS12: =(AS15-AS10)/5+AS11 -> 10812.974
B13: =B12+1 -> 25 | D13: =(D15-D10)/5+D12 -> 2298.4 | E13: =(E15-E10)/5+E12 -> 2390.336 | F13: =(F15-F10)/5+F12 -> 2485.9494 | G13: =(G15-G10)/5+G12 -> 2585.3874 | H13: =(H15-H10)/5+H12 -> 2688.8029 | I13: =(I15-I10)/5+I12 -> 2796.355 | J13: =(J15-J10)/5+J12 -> 2908.2092 | K13: =(K15-K10)/5+K12 -> 3024.5376 | ... AS13: =(AS15-AS10)/5+AS12 -> 11476.052
B14: =B13+1 -> 26 | D14: =(D15-D10)/5+D13 -> 2431.2 | E14: =(E15-E10)/5+E13 -> 2528.448 | F14: =(F15-F10)/5+F13 -> 2629.5859 | G14: =(G15-G10)/5+G13 -> 2734.7694 | H14: =(H15-H10)/5+H13 -> 2844.1601 | I14: =(I15-I10)/5+I13 -> 2957.9265 | J14: =(J15-J10)/5+J13 -> 3076.2436 | K14: =(K15-K10)/5+K13 -> 3199.2933 | ... AS14: =(AS15-AS10)/5+AS13 -> 12139.131
B15: =B14+1 -> 27 | C15: ='DOSM Wages Report'!B9 -> 25-29 | D15: =_xlfn.XLOOKUP(C15,'DOSM Wages Report'!$B$7:$B$17,'DOSM Wages Report'!$C$7:$C$17,,0,) -> 2564 | E15: =D15*(1+$C$6) -> 2666.56 | F15: =E15*(1+$C$6) -> 2773.2224 | G15: =F15*(1+$C$6) -> 2884.1513 | H15: =G15*(1+$C$6) -> 2999.5173 | I15: =H15*(1+$C$6) -> 3119.498 | J15: =I15*(1+$C$6) -> 3244.278 | K15: =J15*(1+$C$6) -> 3374.0491 | L15: =K15*(1+$C$6) -> 3509.011 | ... AS15: =AR15*(1+$C$6) -> 12802.21
B16: =B15+1 -> 28 | D16: =(D20-D15)/5+D15 -> 2660.2 | E16: =(E20-E15)/5+E15 -> 2766.608 | F16: =(F20-F15)/5+F15 -> 2877.2723 | G16: =(G20-G15)/5+G15 -> 2992.3632 | H16: =(H20-H15)/5+H15 -> 3112.0577 | I16: =(I20-I15)/5+I15 -> 3236.5401 | J16: =(J20-J15)/5+J15 -> 3366.0017 | K16: =(K20-K15)/5+K15 -> 3500.6417 | ... AS16: =(AS20-AS15)/5+AS15 -> 13282.542
B17: =B16+1 -> 29 | D17: =(D20-D15)/5+D16 -> 2756.4 | E17: =(E20-E15)/5+E16 -> 2866.656 | F17: =(F20-F15)/5+F16 -> 2981.3222 | G17: =(G20-G15)/5+G16 -> 3100.5751 | H17: =(H20-H15)/5+H16 -> 3224.5981 | I17: =(I20-I15)/5+I16 -> 3353.5821 | J17: =(J20-J15)/5+J16 -> 3487.7253 | K17: =(K20-K15)/5+K16 -> 3627.2344 | ... AS17: =(AS20-AS15)/5+AS16 -> 13762.875
B18: =B17+1 -> 30 | D18: =(D20-D15)/5+D17 -> 2852.6 | E18: =(E20-E15)/5+E17 -> 2966.704 | F18: =(F20-F15)/5+F17 -> 3085.3722 | G18: =(G20-G15)/5+G17 -> 3208.787 | H18: =(H20-H15)/5+H17 -> 3337.1385 | I18: =(I20-I15)/5+I17 -> 3470.6241 | J18: =(J20-J15)/5+J17 -> 3609.449 | K18: =(K20-K15)/5+K17 -> 3753.827 | ... AS18: =(AS20-AS15)/5+AS17 -> 14243.207
B19: =B18+1 -> 31 | D19: =(D20-D15)/5+D18 -> 2948.8 | E19: =(E20-E15)/5+E18 -> 3066.752 | F19: =(F20-F15)/5+F18 -> 3189.4221 | G19: =(G20-G15)/5+G18 -> 3316.999 | H19: =(H20-H15)/5+H18 -> 3449.6789 | I19: =(I20-I15)/5+I18 -> 3587.6661 | J19: =(J20-J15)/5+J18 -> 3731.1727 | K19: =(K20-K15)/5+K18 -> 3880.4196 | ... AS19: =(AS20-AS15)/5+AS18 -> 14723.54
B20: =B19+1 -> 32 | C20: ='DOSM Wages Report'!B10 -> 30-34 | D20: =_xlfn.XLOOKUP(C20,'DOSM Wages Report'!$B$7:$B$17,'DOSM Wages Report'!$C$7:$C$17,,0,) -> 3045 | E20: =D20*(1+$C$6) -> 3166.8 | F20: =E20*(1+$C$6) -> 3293.472 | G20: =F20*(1+$C$6) -> 3425.2109 | H20: =G20*(1+$C$6) -> 3562.2193 | I20: =H20*(1+$C$6) -> 3704.7081 | J20: =I20*(1+$C$6) -> 3852.8964 | K20: =J20*(1+$C$6) -> 4007.0123 | L20: =K20*(1+$C$6) -> 4167.2928 | ... AS20: =AR20*(1+$C$6) -> 15203.872
B21: =B20+1 -> 33 | D21: =(D25-D20)/5+D20 -> 3136 | E21: =(E25-E20)/5+E20 -> 3261.44 | F21: =(F25-F20)/5+F20 -> 3391.8976 | G21: =(G25-G20)/5+G20 -> 3527.5735 | H21: =(H25-H20)/5+H20 -> 3668.6764 | I21: =(I25-I20)/5+I20 -> 3815.4235 | J21: =(J25-J20)/5+J20 -> 3968.0404 | K21: =(K25-K20)/5+K20 -> 4126.7621 | ... AS21: =(AS25-AS20)/5+AS20 -> 15658.241
B22: =B21+1 -> 34 | D22: =(D25-D20)/5+D21 -> 3227 | E22: =(E25-E20)/5+E21 -> 3356.08 | F22: =(F25-F20)/5+F21 -> 3490.3232 | G22: =(G25-G20)/5+G21 -> 3629.9361 | H22: =(H25-H20)/5+H21 -> 3775.1336 | I22: =(I25-I20)/5+I21 -> 3926.1389 | J22: =(J25-J20)/5+J21 -> 4083.1845 | K22: =(K25-K20)/5+K21 -> 4246.5119 | ... AS22: =(AS25-AS20)/5+AS21 -> 16112.609
B23: =B22+1 -> 35 | D23: =(D25-D20)/5+D22 -> 3318 | E23: =(E25-E20)/5+E22 -> 3450.72 | F23: =(F25-F20)/5+F22 -> 3588.7488 | G23: =(G25-G20)/5+G22 -> 3732.2988 | H23: =(H25-H20)/5+H22 -> 3881.5907 | I23: =(I25-I20)/5+I22 -> 4036.8543 | J23: =(J25-J20)/5+J22 -> 4198.3285 | K23: =(K25-K20)/5+K22 -> 4366.2616 | ... AS23: =(AS25-AS20)/5+AS22 -> 16566.978
B24: =B23+1 -> 36 | D24: =(D25-D20)/5+D23 -> 3409 | E24: =(E25-E20)/5+E23 -> 3545.36 | F24: =(F25-F20)/5+F23 -> 3687.1744 | G24: =(G25-G20)/5+G23 -> 3834.6614 | H24: =(H25-H20)/5+H23 -> 3988.0478 | I24: =(I25-I20)/5+I23 -> 4147.5697 | J24: =(J25-J20)/5+J23 -> 4313.4725 | K24: =(K25-K20)/5+K23 -> 4486.0114 | ... AS24: =(AS25-AS20)/5+AS23 -> 17021.346
B25: =B24+1 -> 37 | C25: ='DOSM Wages Report'!B11 -> 35-39 | D25: =_xlfn.XLOOKUP(C25,'DOSM Wages Report'!$B$7:$B$17,'DOSM Wages Report'!$C$7:$C$17,,0,) -> 3500 | E25: =D25*(1+$C$6) -> 3640 | F25: =E25*(1+$C$6) -> 3785.6 | G25: =F25*(1+$C$6) -> 3937.024 | H25: =G25*(1+$C$6) -> 4094.505 | I25: =H25*(1+$C$6) -> 4258.2852 | J25: =I25*(1+$C$6) -> 4428.6166 | K25: =J25*(1+$C$6) -> 4605.7612 | L25: =K25*(1+$C$6) -> 4789.9917 | ... AS25: =AR25*(1+$C$6) -> 17475.715
B26: =B25+1 -> 38 | D26: =(D30-D25)/5+D25 -> 3540 | E26: =(E30-E25)/5+E25 -> 3681.6 | F26: =(F30-F25)/5+F25 -> 3828.864 | G26: =(G30-G25)/5+G25 -> 3982.0186 | H26: =(H30-H25)/5+H25 -> 4141.2993 | I26: =(I30-I25)/5+I25 -> 4306.9513 | J26: =(J30-J25)/5+J25 -> 4479.2293 | K26: =(K30-K25)/5+K25 -> 4658.3985 | ... AS26: =(AS30-AS25)/5+AS25 -> 17675.438
B27: =B26+1 -> 39 | D27: =(D30-D25)/5+D26 -> 3580 | E27: =(E30-E25)/5+E26 -> 3723.2 | F27: =(F30-F25)/5+F26 -> 3872.128 | G27: =(G30-G25)/5+G26 -> 4027.0131 | H27: =(H30-H25)/5+H26 -> 4188.0936 | I27: =(I30-I25)/5+I26 -> 4355.6174 | J27: =(J30-J25)/5+J26 -> 4529.8421 | K27: =(K30-K25)/5+K26 -> 4711.0358 | ... AS27: =(AS30-AS25)/5+AS26 -> 17875.16
B28: =B27+1 -> 40 | D28: =(D30-D25)/5+D27 -> 3620 | E28: =(E30-E25)/5+E27 -> 3764.8 | F28: =(F30-F25)/5+F27 -> 3915.392 | G28: =(G30-G25)/5+G27 -> 4072.0077 | H28: =(H30-H25)/5+H27 -> 4234.888 | I28: =(I30-I25)/5+I27 -> 4404.2835 | J28: =(J30-J25)/5+J27 -> 4580.4548 | K28: =(K30-K25)/5+K27 -> 4763.673 | ... AS28: =(AS30-AS25)/5+AS27 -> 18074.882
B29: =B28+1 -> 41 | D29: =(D30-D25)/5+D28 -> 3660 | E29: =(E30-E25)/5+E28 -> 3806.4 | F29: =(F30-F25)/5+F28 -> 3958.656 | G29: =(G30-G25)/5+G28 -> 4117.0022 | H29: =(H30-H25)/5+H28 -> 4281.6823 | I29: =(I30-I25)/5+I28 -> 4452.9496 | J29: =(J30-J25)/5+J28 -> 4631.0676 | K29: =(K30-K25)/5+K28 -> 4816.3103 | ... AS29: =(AS30-AS25)/5+AS28 -> 18274.605
B30: =B29+1 -> 42 | C30: ='DOSM Wages Report'!B12 -> 40-44 | D30: =_xlfn.XLOOKUP(C30,'DOSM Wages Report'!$B$7:$B$17,'DOSM Wages Report'!$C$7:$C$17,,0,) -> 3700 | E30: =D30*(1+$C$6) -> 3848 | F30: =E30*(1+$C$6) -> 4001.92 | G30: =F30*(1+$C$6) -> 4161.9968 | H30: =G30*(1+$C$6) -> 4328.4767 | I30: =H30*(1+$C$6) -> 4501.6157 | J30: =I30*(1+$C$6) -> 4681.6804 | K30: =J30*(1+$C$6) -> 4868.9476 | L30: =K30*(1+$C$6) -> 5063.7055 | ... AS30: =AR30*(1+$C$6) -> 18474.327
B31: =B30+1 -> 43 | D31: =(D35-D30)/5+D30 -> 3720 | E31: =(E35-E30)/5+E30 -> 3868.8 | F31: =(F35-F30)/5+F30 -> 4023.552 | G31: =(G35-G30)/5+G30 -> 4184.4941 | H31: =(H35-H30)/5+H30 -> 4351.8738 | I31: =(I35-I30)/5+I30 -> 4525.9488 | J31: =(J35-J30)/5+J30 -> 4706.9867 | K31: =(K35-K30)/5+K30 -> 4895.2662 | ... AS31: =(AS35-AS30)/5+AS30 -> 18574.189
B32: =B31+1 -> 44 | D32: =(D35-D30)/5+D31 -> 3740 | E32: =(E35-E30)/5+E31 -> 3889.6 | F32: =(F35-F30)/5+F31 -> 4045.184 | G32: =(G35-G30)/5+G31 -> 4206.9914 | H32: =(H35-H30)/5+H31 -> 4375.271 | I32: =(I35-I30)/5+I31 -> 4550.2819 | J32: =(J35-J30)/5+J31 -> 4732.2931 | K32: =(K35-K30)/5+K31 -> 4921.5849 | ... AS32: =(AS35-AS30)/5+AS31 -> 18674.05
B33: =B32+1 -> 45 | D33: =(D35-D30)/5+D32 -> 3760 | E33: =(E35-E30)/5+E32 -> 3910.4 | F33: =(F35-F30)/5+F32 -> 4066.816 | G33: =(G35-G30)/5+G32 -> 4229.4886 | H33: =(H35-H30)/5+H32 -> 4398.6682 | I33: =(I35-I30)/5+I32 -> 4574.6149 | J33: =(J35-J30)/5+J32 -> 4757.5995 | K33: =(K35-K30)/5+K32 -> 4947.9035 | ... AS33: =(AS35-AS30)/5+AS32 -> 18773.911
B34: =B33+1 -> 46 | D34: =(D35-D30)/5+D33 -> 3780 | E34: =(E35-E30)/5+E33 -> 3931.2 | F34: =(F35-F30)/5+F33 -> 4088.448 | G34: =(G35-G30)/5+G33 -> 4251.9859 | H34: =(H35-H30)/5+H33 -> 4422.0654 | I34: =(I35-I30)/5+I33 -> 4598.948 | J34: =(J35-J30)/5+J33 -> 4782.9059 | K34: =(K35-K30)/5+K33 -> 4974.2221 | ... AS34: =(AS35-AS30)/5+AS33 -> 18873.772
B35: =B34+1 -> 47 | C35: ='DOSM Wages Report'!B13 -> 45-49 | D35: =_xlfn.XLOOKUP(C35,'DOSM Wages Report'!$B$7:$B$17,'DOSM Wages Report'!$C$7:$C$17,,0,) -> 3800 | E35: =D35*(1+$C$6) -> 3952 | F35: =E35*(1+$C$6) -> 4110.08 | G35: =F35*(1+$C$6) -> 4274.4832 | H35: =G35*(1+$C$6) -> 4445.4625 | I35: =H35*(1+$C$6) -> 4623.281 | J35: =I35*(1+$C$6) -> 4808.2123 | K35: =J35*(1+$C$6) -> 5000.5408 | L35: =K35*(1+$C$6) -> 5200.5624 | ... AS35: =AR35*(1+$C$6) -> 18973.634
B36: =B35+1 -> 48 | D36: =(D40-D35)/5+D35 -> 3769 | E36: =(E40-E35)/5+E35 -> 3919.76 | F36: =(F40-F35)/5+F35 -> 4076.5504 | G36: =(G40-G35)/5+G35 -> 4239.6124 | H36: =(H40-H35)/5+H35 -> 4409.1969 | I36: =(I40-I35)/5+I35 -> 4585.5648 | J36: =(J40-J35)/5+J35 -> 4768.9874 | K36: =(K40-K35)/5+K35 -> 4959.7469 | ... AS36: =(AS40-AS35)/5+AS35 -> 18818.849
B37: =B36+1 -> 49 | D37: =(D40-D35)/5+D36 -> 3738 | E37: =(E40-E35)/5+E36 -> 3887.52 | F37: =(F40-F35)/5+F36 -> 4043.0208 | G37: =(G40-G35)/5+G36 -> 4204.7416 | H37: =(H40-H35)/5+H36 -> 4372.9313 | I37: =(I40-I35)/5+I36 -> 4547.8485 | J37: =(J40-J35)/5+J36 -> 4729.7625 | K37: =(K40-K35)/5+K36 -> 4918.953 | ... AS37: =(AS40-AS35)/5+AS36 -> 18664.064
B38: =B37+1 -> 50 | D38: =(D40-D35)/5+D37 -> 3707 | E38: =(E40-E35)/5+E37 -> 3855.28 | F38: =(F40-F35)/5+F37 -> 4009.4912 | G38: =(G40-G35)/5+G37 -> 4169.8708 | H38: =(H40-H35)/5+H37 -> 4336.6657 | I38: =(I40-I35)/5+I37 -> 4510.1323 | J38: =(J40-J35)/5+J37 -> 4690.5376 | K38: =(K40-K35)/5+K37 -> 4878.1591 | ... AS38: =(AS40-AS35)/5+AS37 -> 18509.279
B39: =B38+1 -> 51 | D39: =(D40-D35)/5+D38 -> 3676 | E39: =(E40-E35)/5+E38 -> 3823.04 | F39: =(F40-F35)/5+F38 -> 3975.9616 | G39: =(G40-G35)/5+G38 -> 4135.0001 | H39: =(H40-H35)/5+H38 -> 4300.4001 | I39: =(I40-I35)/5+I38 -> 4472.4161 | J39: =(J40-J35)/5+J38 -> 4651.3127 | K39: =(K40-K35)/5+K38 -> 4837.3652 | ... AS39: =(AS40-AS35)/5+AS38 -> 18354.494
B40: =B39+1 -> 52 | C40: ='DOSM Wages Report'!B14 -> 50-54 | D40: =_xlfn.XLOOKUP(C40,'DOSM Wages Report'!$B$7:$B$17,'DOSM Wages Report'!$C$7:$C$17,,0,) -> 3645 | E40: =D40*(1+$C$6) -> 3790.8 | F40: =E40*(1+$C$6) -> 3942.432 | G40: =F40*(1+$C$6) -> 4100.1293 | H40: =G40*(1+$C$6) -> 4264.1345 | I40: =H40*(1+$C$6) -> 4434.6998 | J40: =I40*(1+$C$6) -> 4612.0878 | K40: =J40*(1+$C$6) -> 4796.5713 | L40: =K40*(1+$C$6) -> 4988.4342 | ... AS40: =AR40*(1+$C$6) -> 18199.709
B41: =B40+1 -> 53 | D41: =(D45-D40)/5+D40 -> 3596 | E41: =(E45-E40)/5+E40 -> 3739.84 | F41: =(F45-F40)/5+F40 -> 3889.4336 | G41: =(G45-G40)/5+G40 -> 4045.0109 | H41: =(H45-H40)/5+H40 -> 4206.8114 | I41: =(I45-I40)/5+I40 -> 4375.0838 | J41: =(J45-J40)/5+J40 -> 4550.0872 | K41: =(K45-K40)/5+K40 -> 4732.0907 | ... AS41: =(AS45-AS40)/5+AS40 -> 17955.049
B42: =B41+1 -> 54 | D42: =(D45-D40)/5+D41 -> 3547 | E42: =(E45-E40)/5+E41 -> 3688.88 | F42: =(F45-F40)/5+F41 -> 3836.4352 | G42: =(G45-G40)/5+G41 -> 3989.8926 | H42: =(H45-H40)/5+H41 -> 4149.4883 | I42: =(I45-I40)/5+I41 -> 4315.4678 | J42: =(J45-J40)/5+J41 -> 4488.0866 | K42: =(K45-K40)/5+K41 -> 4667.61 | ... AS42: =(AS45-AS40)/5+AS41 -> 17710.389
B43: =B42+1 -> 55 | D43: =(D45-D40)/5+D42 -> 3498 | E43: =(E45-E40)/5+E42 -> 3637.92 | F43: =(F45-F40)/5+F42 -> 3783.4368 | G43: =(G45-G40)/5+G42 -> 3934.7743 | H43: =(H45-H40)/5+H42 -> 4092.1652 | I43: =(I45-I40)/5+I42 -> 4255.8519 | J43: =(J45-J40)/5+J42 -> 4426.0859 | K43: =(K45-K40)/5+K42 -> 4603.1294 | ... AS43: =(AS45-AS40)/5+AS42 -> 17465.729
...

Sheet RIA projected targets
A1: TheWealthMeta EPF Savings Target Projections
A2: Estimated future RIA savings targets based on inflation rate increases
B4: FROM CONTROL PANEL
B6: Inflation rate | C6: =Summary!F6 -> 0.03
B8: RIA TARGET PROJECTIONS | C8: 2030 | D8: =C8+1 -> 2031 | E8: =D8+1 -> 2032 | F8: =E8+1 -> 2033 | G8: =F8+1 -> 2034 | H8: =G8+1 -> 2035 | I8: =H8+1 -> 2036 | J8: =I8+1 -> 2037 | K8: =J8+1 -> 2038 | ... AL8: =AK8+1 -> 2065
B10: BASIC SAVINGS
B11: Age
B12: 18 | C12: ='RIA framework'!C5 -> 1400 | D12: =C12*(1+$C$6) -> 1442 | E12: =D12*(1+$C$6) -> 1485.26 | F12: =E12*(1+$C$6) -> 1529.8178 | G12: =F12*(1+$C$6) -> 1575.7123 | H12: =G12*(1+$C$6) -> 1622.9837 | I12: =H12*(1+$C$6) -> 1671.6732 | J12: =I12*(1+$C$6) -> 1721.8234 | K12: =J12*(1+$C$6) -> 1773.4781 | ... AL12: =AK12*(1+$C$6) -> 3939.4074
B13: 19 | C13: ='RIA framework'!C6 -> 1700 | D13: =C13*(1+$C$6) -> 1751 | E13: =D13*(1+$C$6) -> 1803.53 | F13: =E13*(1+$C$6) -> 1857.6359 | G13: =F13*(1+$C$6) -> 1913.365 | H13: =G13*(1+$C$6) -> 1970.7659 | I13: =H13*(1+$C$6) -> 2029.8889 | J13: =I13*(1+$C$6) -> 2090.7856 | K13: =J13*(1+$C$6) -> 2153.5091 | ... AL13: =AK13*(1+$C$6) -> 4783.5662
B14: 20 | C14: ='RIA framework'!C7 -> 2200 | D14: =C14*(1+$C$6) -> 2266 | E14: =D14*(1+$C$6) -> 2333.98 | F14: =E14*(1+$C$6) -> 2403.9994 | G14: =F14*(1+$C$6) -> 2476.1194 | H14: =G14*(1+$C$6) -> 2550.403 | I14: =H14*(1+$C$6) -> 2626.9151 | J14: =I14*(1+$C$6) -> 2705.7225 | K14: =J14*(1+$C$6) -> 2786.8942 | ... AL14: =AK14*(1+$C$6) -> 6190.4974
B15: 21 | C15: ='RIA framework'!C8 -> 2800 | D15: =C15*(1+$C$6) -> 2884 | E15: =D15*(1+$C$6) -> 2970.52 | F15: =E15*(1+$C$6) -> 3059.6356 | G15: =F15*(1+$C$6) -> 3151.4247 | H15: =G15*(1+$C$6) -> 3245.9674 | I15: =H15*(1+$C$6) -> 3343.3464 | J15: =I15*(1+$C$6) -> 3443.6468 | K15: =J15*(1+$C$6) -> 3546.9562 | ... AL15: =AK15*(1+$C$6) -> 7878.8149
B16: 22 | C16: ='RIA framework'!C9 -> 5800 | D16: =C16*(1+$C$6) -> 5974 | E16: =D16*(1+$C$6) -> 6153.22 | F16: =E16*(1+$C$6) -> 6337.8166 | G16: =F16*(1+$C$6) -> 6527.9511 | H16: =G16*(1+$C$6) -> 6723.7896 | I16: =H16*(1+$C$6) -> 6925.5033 | J16: =I16*(1+$C$6) -> 7133.2684 | K16: =J16*(1+$C$6) -> 7347.2665 | ... AL16: =AK16*(1+$C$6) -> 16320.402
B17: 23 | C17: ='RIA framework'!C10 -> 9200 | D17: =C17*(1+$C$6) -> 9476 | E17: =D17*(1+$C$6) -> 9760.28 | F17: =E17*(1+$C$6) -> 10053.088 | G17: =F17*(1+$C$6) -> 10354.681 | H17: =G17*(1+$C$6) -> 10665.321 | I17: =H17*(1+$C$6) -> 10985.281 | J17: =I17*(1+$C$6) -> 11314.84 | K17: =J17*(1+$C$6) -> 11654.285 | ... AL17: =AK17*(1+$C$6) -> 25887.535
B18: 24 | C18: ='RIA framework'!C11 -> 12300 | D18: =C18*(1+$C$6) -> 12669 | E18: =D18*(1+$C$6) -> 13049.07 | F18: =E18*(1+$C$6) -> 13440.542 | G18: =F18*(1+$C$6) -> 13843.758 | H18: =G18*(1+$C$6) -> 14259.071 | I18: =H18*(1+$C$6) -> 14686.843 | J18: =I18*(1+$C$6) -> 15127.449 | K18: =J18*(1+$C$6) -> 15581.272 | ... AL18: =AK18*(1+$C$6) -> 34610.508
B19: 25 | C19: ='RIA framework'!C12 -> 15900 | D19: =C19*(1+$C$6) -> 16377 | E19: =D19*(1+$C$6) -> 16868.31 | F19: =E19*(1+$C$6) -> 17374.359 | G19: =F19*(1+$C$6) -> 17895.59 | H19: =G19*(1+$C$6) -> 18432.458 | I19: =H19*(1+$C$6) -> 18985.432 | J19: =I19*(1+$C$6) -> 19554.994 | K19: =J19*(1+$C$6) -> 20141.644 | ... AL19: =AK19*(1+$C$6) -> 44740.413
B20: 26 | C20: ='RIA framework'!C13 -> 19800 | D20: =C20*(1+$C$6) -> 20394 | E20: =D20*(1+$C$6) -> 21005.82 | F20: =E20*(1+$C$6) -> 21635.995 | G20: =F20*(1+$C$6) -> 22285.074 | H20: =G20*(1+$C$6) -> 22953.627 | I20: =H20*(1+$C$6) -> 23642.235 | J20: =I20*(1+$C$6) -> 24351.503 | K20: =J20*(1+$C$6) -> 25082.048 | ... AL20: =AK20*(1+$C$6) -> 55714.477
B21: 27 | C21: ='RIA framework'!C14 -> 23800 | D21: =C21*(1+$C$6) -> 24514 | E21: =D21*(1+$C$6) -> 25249.42 | F21: =E21*(1+$C$6) -> 26006.903 | G21: =F21*(1+$C$6) -> 26787.11 | H21: =G21*(1+$C$6) -> 27590.723 | I21: =H21*(1+$C$6) -> 28418.445 | J21: =I21*(1+$C$6) -> 29270.998 | K21: =J21*(1+$C$6) -> 30149.128 | ... AL21: =AK21*(1+$C$6) -> 66969.926
B22: 28 | C22: ='RIA framework'!C15 -> 28300 | D22: =C22*(1+$C$6) -> 29149 | E22: =D22*(1+$C$6) -> 30023.47 | F22: =E22*(1+$C$6) -> 30924.174 | G22: =F22*(1+$C$6) -> 31851.899 | H22: =G22*(1+$C$6) -> 32807.456 | I22: =H22*(1+$C$6) -> 33791.68 | J22: =I22*(1+$C$6) -> 34805.43 | K22: =J22*(1+$C$6) -> 35849.593 | ... AL22: =AK22*(1+$C$6) -> 79632.307
B23: 29 | C23: ='RIA framework'!C16 -> 33000 | D23: =C23*(1+$C$6) -> 33990 | E23: =D23*(1+$C$6) -> 35009.7 | F23: =E23*(1+$C$6) -> 36059.991 | G23: =F23*(1+$C$6) -> 37141.791 | H23: =G23*(1+$C$6) -> 38256.044 | I23: =H23*(1+$C$6) -> 39403.726 | J23: =I23*(1+$C$6) -> 40585.838 | K23: =J23*(1+$C$6) -> 41803.413 | ... AL23: =AK23*(1+$C$6) -> 92857.461
... B54: 60 | C54: ='RIA framework'!C47 -> 390000 | D54: =C54*(1+$C$6) -> 401700 | E54: =D54*(1+$C$6) -> 413751 | F54: =E54*(1+$C$6) -> 426163.53 | G54: =F54*(1+$C$6) -> 438948.44 | H54: =G54*(1+$C$6) -> 452116.89 | I54: =H54*(1+$C$6) -> 465680.4 | J54: =I54*(1+$C$6) -> 479650.81 | K54: =J54*(1+$C$6) -> 494040.33 | ... AL54: =AK54*(1+$C$6) -> 1097406.4
B56: ADEQUATE SAVINGS
B57: Age
B58: 18 | C58: ='RIA framework'!D5 -> 1500 | D58: =C58*(1+$C$6) -> 1545 | E58: =D58*(1+$C$6) -> 1591.35 | F58: =E58*(1+$C$6) -> 1639.0905 | G58: =F58*(1+$C$6) -> 1688.2632 | H58: =G58*(1+$C$6) -> 1738.9111 | I58: =H58*(1+$C$6) -> 1791.0784 | J58: =I58*(1+$C$6) -> 1844.8108 | K58: =J58*(1+$C$6) -> 1900.1551 | ... AL58: =AK58*(1+$C$6) -> 4220.7937
B59: 19 | C59: ='RIA framework'!D6 -> 1800 | D59: =C59*(1+$C$6) -> 1854 | E59: =D59*(1+$C$6) -> 1909.62 | F59: =E59*(1+$C$6) -> 1966.9086 | G59: =F59*(1+$C$6) -> 2025.9159 | H59: =G59*(1+$C$6) -> 2086.6933 | I59: =H59*(1+$C$6) -> 2149.2941 | J59: =I59*(1+$C$6) -> 2213.773 | K59: =J59*(1+$C$6) -> 2280.1861 | ... AL59: =AK59*(1+$C$6) -> 5064.9524
B60: 20 | C60: ='RIA framework'!D7 -> 2300 | D60: =C60*(1+$C$6) -> 2369 | E60: =D60*(1+$C$6) -> 2440.07 | F60: =E60*(1+$C$6) -> 2513.2721 | G60: =F60*(1+$C$6) -> 2588.6703 | H60: =G60*(1+$C$6) -> 2666.3304 | I60: =H60*(1+$C$6) -> 2746.3203 | J60: =I60*(1+$C$6) -> 2828.7099 | K60: =J60*(1+$C$6) -> 2913.5712 | ... AL60: =AK60*(1+$C$6) -> 6471.8836
B61: 21 | C61: ='RIA framework'!D8 -> 3000 | D61: =C61*(1+$C$6) -> 3090 | E61: =D61*(1+$C$6) -> 3182.7 | F61: =E61*(1+$C$6) -> 3278.181 | G61: =F61*(1+$C$6) -> 3376.5264 | H61: =G61*(1+$C$6) -> 3477.8222 | I61: =H61*(1+$C$6) -> 3582.1569 | J61: =I61*(1+$C$6) -> 3689.6216 | K61: =J61*(1+$C$6) -> 3800.3102 | ... AL61: =AK61*(1+$C$6) -> 8441.5874
B62: 22 | C62: ='RIA framework'!D9 -> 6400 | D62: =C62*(1+$C$6) -> 6592 | E62: =D62*(1+$C$6) -> 6789.76 | F62: =E62*(1+$C$6) -> 6993.4528 | G62: =F62*(1+$C$6) -> 7203.2564 | H62: =G62*(1+$C$6) -> 7419.3541 | I62: =H62*(1+$C$6) -> 7641.9347 | J62: =I62*(1+$C$6) -> 7871.1927 | K62: =J62*(1+$C$6) -> 8107.3285 | ... AL62: =AK62*(1+$C$6) -> 18008.72
B63: 23 | C63: ='RIA framework'!D10 -> 10100 | D63: =C63*(1+$C$6) -> 10403 | E63: =D63*(1+$C$6) -> 10715.09 | F63: =E63*(1+$C$6) -> 11036.543 | G63: =F63*(1+$C$6) -> 11367.639 | H63: =G63*(1+$C$6) -> 11708.668 | I63: =H63*(1+$C$6) -> 12059.928 | J63: =I63*(1+$C$6) -> 12421.726 | K63: =J63*(1+$C$6) -> 12794.378 | ... AL63: =AK63*(1+$C$6) -> 28420.011
B64: 24 | C64: ='RIA framework'!D11 -> 14100 | D64: =C64*(1+$C$6) -> 14523 | E64: =D64*(1+$C$6) -> 14958.69 | F64: =E64*(1+$C$6) -> 15407.451 | G64: =F64*(1+$C$6) -> 15869.674 | H64: =G64*(1+$C$6) -> 16345.764 | I64: =H64*(1+$C$6) -> 16836.137 | J64: =I64*(1+$C$6) -> 17341.222 | K64: =J64*(1+$C$6) -> 17861.458 | ... AL64: =AK64*(1+$C$6) -> 39675.461
B65: 25 | C65: ='RIA framework'!D12 -> 19000 | D65: =C65*(1+$C$6) -> 19570 | E65: =D65*(1+$C$6) -> 20157.1 | F65: =E65*(1+$C$6) -> 20761.813 | G65: =F65*(1+$C$6) -> 21384.667 | H65: =G65*(1+$C$6) -> 22026.207 | I65: =H65*(1+$C$6) -> 22686.994 | J65: =I65*(1+$C$6) -> 23367.603 | K65: =J65*(1+$C$6) -> 24068.632 | ... AL65: =AK65*(1+$C$6) -> 53463.387
B66: 26 | C66: ='RIA framework'!D13 -> 23400 | D66: =C66*(1+$C$6) -> 24102 | E66: =D66*(1+$C$6) -> 24825.06 | F66: =E66*(1+$C$6) -> 25569.812 | G66: =F66*(1+$C$6) -> 26336.906 | H66: =G66*(1+$C$6) -> 27127.013 | I66: =H66*(1+$C$6) -> 27940.824 | J66: =I66*(1+$C$6) -> 28779.048 | K66: =J66*(1+$C$6) -> 29642.42 | ... AL66: =AK66*(1+$C$6) -> 65844.381
B67: 27 | C67: ='RIA framework'!D14 -> 28600 | D67: =C67*(1+$C$6) -> 29458 | E67: =D67*(1+$C$6) -> 30341.74 | F67: =E67*(1+$C$6) -> 31251.992 | G67: =F67*(1+$C$6) -> 32189.552 | H67: =G67*(1+$C$6) -> 33155.239 | I67: =H67*(1+$C$6) -> 34149.896 | J67: =I67*(1+$C$6) -> 35174.393 | K67: =J67*(1+$C$6) -> 36229.624 | ... AL67: =AK67*(1+$C$6) -> 80476.466
B68: 28 | C68: ='RIA framework'!D15 -> 34500 | D68: =C68*(1+$C$6) -> 35535 | E68: =D68*(1+$C$6) -> 36601.05 | F68: =E68*(1+$C$6) -> 37699.082 | G68: =F68*(1+$C$6) -> 38830.054 | H68: =G68*(1+$C$6) -> 39994.956 | I68: =H68*(1+$C$6) -> 41194.804 | J68: =I68*(1+$C$6) -> 42430.648 | K68: =J68*(1+$C$6) -> 43703.568 | ... AL68: =AK68*(1+$C$6) -> 97078.255
B69: 29 | C69: ='RIA framework'!D16 -> 40700 | D69: =C69*(1+$C$6) -> 41921 | E69: =D69*(1+$C$6) -> 43178.63 | F69: =E69*(1+$C$6) -> 44473.989 | G69: =F69*(1+$C$6) -> 45808.209 | H69: =G69*(1+$C$6) -> 47182.455 | I69: =H69*(1+$C$6) -> 48597.928 | J69: =I69*(1+$C$6) -> 50055.866 | K69: =J69*(1+$C$6) -> 51557.542 | ... AL69: =AK69*(1+$C$6) -> 114524.2
... B100: 60 | C100: ='RIA framework'!D47 -> 650000 | D100: =C100*(1+$C$6) -> 669500 | E100: =D100*(1+$C$6) -> 689585 | F100: =E100*(1+$C$6) -> 710272.55 | G100: =F100*(1+$C$6) -> 731580.73 | H100: =G100*(1+$C$6) -> 753528.15 | I100: =H100*(1+$C$6) -> 776133.99 | J100: =I100*(1+$C$6) -> 799418.01 | K100: =J100*(1+$C$6) -> 823400.55 | ... AL100: =AK100*(1+$C$6) -> 1829010.6
B102: ENHANCED SAVINGS
B103: Age
B104: 18 | C104: ='RIA framework'!E5 -> 2500 | D104: =C104*(1+$C$6) -> 2575 | E104: =D104*(1+$C$6) -> 2652.25 | F104: =E104*(1+$C$6) -> 2731.8175 | G104: =F104*(1+$C$6) -> 2813.772 | H104: =G104*(1+$C$6) -> 2898.1852 | I104: =H104*(1+$C$6) -> 2985.1307 | J104: =I104*(1+$C$6) -> 3074.6847 | K104: =J104*(1+$C$6) -> 3166.9252 | ... AL104: =AK104*(1+$C$6) -> 7034.6561
B105: 19 | C105: ='RIA framework'!E6 -> 3100 | D105: =C105*(1+$C$6) -> 3193 | E105: =D105*(1+$C$6) -> 3288.79 | F105: =E105*(1+$C$6) -> 3387.4537 | G105: =F105*(1+$C$6) -> 3489.0773 | H105: =G105*(1+$C$6) -> 3593.7496 | I105: =H105*(1+$C$6) -> 3701.5621 | J105: =I105*(1+$C$6) -> 3812.609 | K105: =J105*(1+$C$6) -> 3926.9873 | ... AL105: =AK105*(1+$C$6) -> 8722.9736
B106: 20 | C106: ='RIA framework'!E7 -> 3900 | D106: =C106*(1+$C$6) -> 4017 | E106: =D106*(1+$C$6) -> 4137.51 | F106: =E106*(1+$C$6) -> 4261.6353 | G106: =F106*(1+$C$6) -> 4389.4844 | H106: =G106*(1+$C$6) -> 4521.1689 | I106: =H106*(1+$C$6) -> 4656.804 | J106: =I106*(1+$C$6) -> 4796.5081 | K106: =J106*(1+$C$6) -> 4940.4033 | ... AL106: =AK106*(1+$C$6) -> 10974.064
...

Sheet >> DATA PREP
C3: DATA PREP
C4: Click here to return to Table of Contents

Sheet EPF Cohorts
A1: TheWealthMeta EPF Savings Target Projections
A2: Integration of EPF and DOSM data into common cohort categories
B4: Cohort Names | C4: Age range (EPF) | D4: Age range (DOSM) | E4: EPF Members (#) | F4: EPF Savings (Total) | G4: EPF Savings (Per Member) | H4: Median Salary (RM, monthly)
B5: =B6-5 -> 22 | C5: ='EPF Demographics'!B6 -> 16-25 | D5: ='DOSM Wages Report'!B8 -> 20-24 | E5: =_xlfn.XLOOKUP(C5,'EPF Demographics'!$B$5:$B$17,'EPF Demographics'!$E$5:$E$17,,0,) -> 1726917 | F5: =_xlfn.XLOOKUP(C5,'EPF Demographics'!$B$5:$B$17,'EPF Demographics'!$H$5:$H$17,,0,) -> 16447278321 | G5: =F5/E5 -> 9524.07 | H5: =_xlfn.XLOOKUP(D5,'DOSM Wages Report'!$B$7:$B$17,'DOSM Wages Report'!$C$7:$C$17,,0,) -> 1900
B6: =B7-5 -> 27 | C6: ='EPF Demographics'!B7 -> 26-30 | D6: ='DOSM Wages Report'!B9 -> 25-29 | E6: =_xlfn.XLOOKUP(C6,'EPF Demographics'!$B$5:$B$17,'EPF Demographics'!$E$5:$E$17,,0,) -> 1620115 | F6: =_xlfn.XLOOKUP(C6,'EPF Demographics'!$B$5:$B$17,'EPF Demographics'!$H$5:$H$17,,0,) -> 45611114767 | G6: =F6/E6 -> 28153.011 | H6: =_xlfn.XLOOKUP(D6,'DOSM Wages Report'!$B$7:$B$17,'DOSM Wages Report'!$C$7:$C$17,,0,) -> 2564
B7: =B8-5 -> 32 | C7: ='EPF Demographics'!B8 -> 31-35 | D7: ='DOSM Wages Report'!B10 -> 30-34 | E7: =_xlfn.XLOOKUP(C7,'EPF Demographics'!$B$5:$B$17,'EPF Demographics'!$E$5:$E$17,,0,) -> 1310555 | F7: =_xlfn.XLOOKUP(C7,'EPF Demographics'!$B$5:$B$17,'EPF Demographics'!$H$5:$H$17,,0,) -> 80224050744 | G7: =F7/E7 -> 61213.799 | H7: =_xlfn.XLOOKUP(D7,'DOSM Wages Report'!$B$7:$B$17,'DOSM Wages Report'!$C$7:$C$17,,0,) -> 3045
